BEGIN:VCALENDAR
VERSION:2.0
PRODID:-//comixart - ECPv6.5.0//NONSGML v1.0//EN
CALSCALE:GREGORIAN
METHOD:PUBLISH
X-WR-CALNAME:comixart
X-ORIGINAL-URL:https://comixart.de
X-WR-CALDESC:Veranstaltungen für comixart
REFRESH-INTERVAL;VALUE=DURATION:PT1H
X-Robots-Tag:noindex
X-PUBLISHED-TTL:PT1H
BEGIN:VTIMEZONE
TZID:Europe/Berlin
BEGIN:DAYLIGHT
TZOFFSETFROM:+0100
TZOFFSETTO:+0200
TZNAME:CEST
DTSTART:20260329T010000
END:DAYLIGHT
BEGIN:STANDARD
TZOFFSETFROM:+0200
TZOFFSETTO:+0100
TZNAME:CET
DTSTART:20261025T010000
END:STANDARD
END:VTIMEZONE
BEGIN:VEVENT
DTSTART;TZID=Europe/Berlin:20260417T150000
DTEND;TZID=Europe/Berlin:20260417T170000
DTSTAMP:20260421T104624
CREATED:20260313T145911Z
LAST-MODIFIED:20260313T145911Z
UID:3521-1776438000-1776445200@comixart.de
SUMMARY:Jenny Jinya Signierstunden in Bamberg und Bayreuth
DESCRIPTION:Wir freuen uns auf einen ganz besonderen Gast:\n\nJenny Jinya signiert bei uns ihren Comic „Loving Reaper“\n\nPerfekt zur Signierstunde in Bamberg und Bayreuth wird auch der zweiter Band erscheinen.\n\nBamberg: 17.04. 15-17 Uhr\nBayreuth: 18.04. 13-15 Uhr\n\nAlso unbedingt vormerken!!!\n\nWir freuen uns auf euch
URL:https://comixart.de/event/jenny-jinya-signierstunden-in-bamberg-und-bayreuth/
LOCATION:comixart Bamberg\, Austraße 21\, Bamberg\, Bayern\, 96047\, Deutschland
CATEGORIES:Signierstunde
ATTACH;FMTTYPE=image/jpeg:https://comixart.de/wp-content/uploads/2026/03/JJ.jpg
ORGANIZER;CN="comixart Bamberg":MAILTO:verkauf@comixart.de
END:VEVENT
END:VCALENDAR