BEGIN:VCALENDAR
VERSION:2.0
PRODID:-//comixart - ECPv6.5.0//NONSGML v1.0//EN
CALSCALE:GREGORIAN
METHOD:PUBLISH
X-WR-CALNAME:comixart
X-ORIGINAL-URL:https://comixart.de
X-WR-CALDESC:Veranstaltungen für comixart
REFRESH-INTERVAL;VALUE=DURATION:PT1H
X-Robots-Tag:noindex
X-PUBLISHED-TTL:PT1H
BEGIN:VTIMEZONE
TZID:Europe/Berlin
BEGIN:DAYLIGHT
TZOFFSETFROM:+0100
TZOFFSETTO:+0200
TZNAME:CEST
DTSTART:20260329T010000
END:DAYLIGHT
BEGIN:STANDARD
TZOFFSETFROM:+0200
TZOFFSETTO:+0100
TZNAME:CET
DTSTART:20261025T010000
END:STANDARD
END:VTIMEZONE
BEGIN:VEVENT
DTSTART;TZID=Europe/Berlin:20260509T100000
DTEND;TZID=Europe/Berlin:20260509T180000
DTSTAMP:20260423T140541
CREATED:20260313T150116Z
LAST-MODIFIED:20260422T084252Z
UID:3525-1778320800-1778349600@comixart.de
SUMMARY:Gratis Comic Tag in Bamberg
DESCRIPTION:Der Gratis Comic Tag ist ein besonderer Tag für alle\, die Comics lieben – und für alle\, die sie vielleicht erst noch entdecken wollen!\n\nEinmal im Jahr verschenken Buchhandlungen\, Comicläden und Bibliotheken in Deutschland\, Österreich und der Schweiz viele tolle Comics komplett kostenlos.\n\nOb lustig\, aufregend oder fantastisch – für jedes Alter ist etwas dabei\, u.a. die Schlümpfe\, Donald Duck\, Spider-Man\, der Mandalorian\, Batman\, Idefix uvm.!\n\nAußerdem sammeln wir wieder Spenden für einen guten Zweck: für die Behandlung des schwerkranken Charlie.
URL:https://comixart.de/event/gratis-comic-tag-in-bamberg/
LOCATION:comixart Bamberg\, Austraße 21\, Bamberg\, Bayern\, 96047\, Deutschland
CATEGORIES:Aktion
ATTACH;FMTTYPE=image/jpeg:https://comixart.de/wp-content/uploads/2026/03/GCT_2026_Idefix.jpg
ORGANIZER;CN="comixart Bamberg":MAILTO:verkauf@comixart.de
END:VEVENT
END:VCALENDAR