BEGIN:VCALENDAR
VERSION:2.0
PRODID:-//comixart - ECPv6.5.0//NONSGML v1.0//EN
CALSCALE:GREGORIAN
METHOD:PUBLISH
X-ORIGINAL-URL:https://comixart.de
X-WR-CALDESC:Veranstaltungen für comixart
REFRESH-INTERVAL;VALUE=DURATION:PT1H
X-Robots-Tag:noindex
X-PUBLISHED-TTL:PT1H
BEGIN:VTIMEZONE
TZID:Europe/Berlin
BEGIN:DAYLIGHT
TZOFFSETFROM:+0100
TZOFFSETTO:+0200
TZNAME:CEST
DTSTART:20260329T010000
END:DAYLIGHT
BEGIN:STANDARD
TZOFFSETFROM:+0200
TZOFFSETTO:+0100
TZNAME:CET
DTSTART:20261025T010000
END:STANDARD
END:VTIMEZONE
BEGIN:VEVENT
DTSTART;TZID=Europe/Berlin:20260613T130000
DTEND;TZID=Europe/Berlin:20260613T150000
DTSTAMP:20260422T123551
CREATED:20260320T095527Z
LAST-MODIFIED:20260422T084141Z
UID:3528-1781355600-1781362800@comixart.de
SUMMARY:Asterix-Signierstunde mit Stefan "Das Eich" Eichner
DESCRIPTION:Kurz nach Erscheinenen von „Asterix Mundart Oberfränkisch IV: Eds schebberds“ ist der geniale Übersetzer ins Oberfränkische Stefan „Das Eich“ Eichner wieder bei uns zu Gast und signiert seine Asterix-Bände. \n 
URL:https://comixart.de/event/asterix-signierstunde-mit-stefan-das-eich-eichner/
LOCATION:comixart Bamberg\, Austraße 21\, Bamberg\, Bayern\, 96047\, Deutschland
CATEGORIES:Signierstunde
ATTACH;FMTTYPE=image/jpeg:https://comixart.de/wp-content/uploads/2026/03/aa.jpg
ORGANIZER;CN="comixart Bamberg":MAILTO:verkauf@comixart.de
END:VEVENT
END:VCALENDAR